BEGIN:VCALENDAR
VERSION:2.0
PRODID:-//Cornwall National Landscape - ECPv6.15.18//NONSGML v1.0//EN
CALSCALE:GREGORIAN
METHOD:PUBLISH
X-ORIGINAL-URL:https://cornwall-landscape.org
X-WR-CALDESC:Events for Cornwall National Landscape
REFRESH-INTERVAL;VALUE=DURATION:PT1H
X-Robots-Tag:noindex
X-PUBLISHED-TTL:PT1H
BEGIN:VTIMEZONE
TZID:Europe/London
BEGIN:DAYLIGHT
TZOFFSETFROM:+0000
TZOFFSETTO:+0100
TZNAME:BST
DTSTART:20250330T010000
END:DAYLIGHT
BEGIN:STANDARD
TZOFFSETFROM:+0100
TZOFFSETTO:+0000
TZNAME:GMT
DTSTART:20251026T010000
END:STANDARD
BEGIN:DAYLIGHT
TZOFFSETFROM:+0000
TZOFFSETTO:+0100
TZNAME:BST
DTSTART:20260329T010000
END:DAYLIGHT
BEGIN:STANDARD
TZOFFSETFROM:+0100
TZOFFSETTO:+0000
TZNAME:GMT
DTSTART:20261025T010000
END:STANDARD
BEGIN:DAYLIGHT
TZOFFSETFROM:+0000
TZOFFSETTO:+0100
TZNAME:BST
DTSTART:20270328T010000
END:DAYLIGHT
BEGIN:STANDARD
TZOFFSETFROM:+0100
TZOFFSETTO:+0000
TZNAME:GMT
DTSTART:20271031T010000
END:STANDARD
END:VTIMEZONE
BEGIN:VEVENT
DTSTART;VALUE=DATE:20260324
DTEND;VALUE=DATE:20260504
DTSTAMP:20260425T132522
CREATED:20260324T143738Z
LAST-MODIFIED:20260324T143738Z
UID:8649-1774310400-1777852799@cornwall-landscape.org
SUMMARY:First online consultation of Cornwall National Landscape Management Plan Review
DESCRIPTION:All are invited to be part of something empowering and rooted for Cornwall National Landscape\, helping shape a MP that brings People\, Place\, Nature\, Climate together. Take a look at our short video to help you embed a secure understanding of Cornwall National Landscape and the role you play in shaping its future. \nThis is the first of two consultation and we invite you all to complete the one that is most suitable for you. One is for all members of the public\, community groups and local organisations. The second is for our partner and stakeholder organisations. Please choose from the appropriate survey link. http://letstalk.cornwall.gov.uk/cornwall-national-landscape
URL:https://cornwall-landscape.org/cnl-event/first-online-consultation-of-cornwall-national-landscape-management-plan-review/
END:VEVENT
BEGIN:VEVENT
DTSTART;VALUE=DATE:20260418
DTEND;VALUE=DATE:20260419
DTSTAMP:20260425T132522
CREATED:20260410T140012Z
LAST-MODIFIED:20260410T140012Z
UID:8941-1776470400-1776556799@cornwall-landscape.org
SUMMARY:Peatland Exploration Day on Bodmin Moor
DESCRIPTION:Peatlands are rare and valuable habitats and their value is still only just being more broadly recognised. Join Alan Stapleton\, a renowned soil scientist\, and Sue Allen from Butterfly Conservation Cornwall for a day exploring this wonderful habitat.\nThe day will start at Treverran\, Church Hay Down\, St Breward PL30 4PE\, where there is parking\, with a briefing about Peat Soils\, Peatland Restoration and peatland wildlife and a look at the marshy area there. Then we will lift share out on to the Moor where we will see deep peat and its special vegetation and wildlife. Come with Wellington Boots\, wet weather gear and suncream.\nPlease register with jane.hanscomb@outlook.com if you would like to come and please let her know if you are unable to make it.\n\nSupported by the Natural Beauty and the Beast Project thanks to National Lottery Heritage Fund Players
URL:https://cornwall-landscape.org/cnl-event/peatland-exploration-day-on-bodmin-moor/
ATTACH;FMTTYPE=image/jpeg:https://cnl-image-store.storage.googleapis.com/wp-content/uploads/2026/04/10145934/659917195_1398400745667469_6956842351178012797_n.jpg
END:VEVENT
BEGIN:VEVENT
DTSTART;TZID=Europe/London:20260418T143000
DTEND;TZID=Europe/London:20260418T163000
DTSTAMP:20260425T132522
CREATED:20260410T134540Z
LAST-MODIFIED:20260410T134540Z
UID:8939-1776522600-1776529800@cornwall-landscape.org
SUMMARY:Sterts Community Tea Party
DESCRIPTION:Free Community Tea Party – Share Your Sterts Story \nWe’re opening the doors for an afternoon of tea\, cake and shared memories at Sterts.Come along for a relaxed catch-up\, bring a photograph\, programme or story if you have one\, and help us build a picture of Sterts over the last 40 years. You’ll also be able to try on costumes\, add to our memory wall and reconnect with familiar faces. Sat 18 April 2.30–4.30pm Sturrock Studio\, StertsFree to attend — please book so we know how many cakes to bake. Donations welcome on the booking page. www.ticketsource.com/stertsSupported by Cornwall National Landscape’s Natural Beauty & The Beast Project\, funded by The National Lottery Heritage Fund.
URL:https://cornwall-landscape.org/cnl-event/sterts-community-tea-party/
ATTACH;FMTTYPE=image/jpeg:https://cnl-image-store.storage.googleapis.com/wp-content/uploads/2026/04/10144407/666639990_1556522563142029_4453740275544590038_n.jpg
END:VEVENT
BEGIN:VEVENT
DTSTART;TZID=Europe/London:20260418T193000
DTEND;TZID=Europe/London:20260418T210000
DTSTAMP:20260425T132522
CREATED:20260410T123133Z
LAST-MODIFIED:20260410T123307Z
UID:8619-1776540600-1776546000@cornwall-landscape.org
SUMMARY:Dark Skies & Star Gazing Evening
DESCRIPTION:Join the West Penwith Dark Skies group for a relaxed and inspiring evening celebrating our dark skies and learning why they are so important for both wildlife and people.\n\nEnjoy an informal night under the stars with expert talks\, practical guidance and the chance to experience the night sky in a beautiful rural setting. \n\n✨ What’s included\n\nA short talk on why dark skies matter for wildlife\nStargazing (weather permitting)\nIf it’s wet or cloudy\, a PowerPoint presentation exploring the universe\nGuidance on photographing dark skies and the night sky\n\nThe talks are free to attend\, with food and refreshments available to purchase on the night. \n\n📍 Event details\nDate: Saturday 18th April\nTime: From 7:30pm\nLocation: Chy Praze Farm\, Wedding Barn\, Morvah\, TR19 7TU \n\n📧 More information\nFor further details\, please contact: councillor.flindall@stjusttowncouncil.gov.uk\n  \nWe hope you can join us for a relaxed and memorable evening under the stars\, celebrating the beauty of our dark skies. \n 
URL:https://cornwall-landscape.org/cnl-event/dark-skies-star-gazing-evening/
ATTACH;FMTTYPE=image/jpeg:https://cnl-image-store.storage.googleapis.com/wp-content/uploads/2026/04/10131409/WEB-Milky-Way-over-Botallack-by-Michael-Lovell.jpg
END:VEVENT
END:VCALENDAR