BEGIN:VCALENDAR
VERSION:2.0
PRODID:-//Cornwall National Landscape - ECPv6.15.18//NONSGML v1.0//EN
CALSCALE:GREGORIAN
METHOD:PUBLISH
X-ORIGINAL-URL:https://cornwall-landscape.org
X-WR-CALDESC:Events for Cornwall National Landscape
REFRESH-INTERVAL;VALUE=DURATION:PT1H
X-Robots-Tag:noindex
X-PUBLISHED-TTL:PT1H
BEGIN:VTIMEZONE
TZID:Europe/London
BEGIN:DAYLIGHT
TZOFFSETFROM:+0000
TZOFFSETTO:+0100
TZNAME:BST
DTSTART:20250330T010000
END:DAYLIGHT
BEGIN:STANDARD
TZOFFSETFROM:+0100
TZOFFSETTO:+0000
TZNAME:GMT
DTSTART:20251026T010000
END:STANDARD
BEGIN:DAYLIGHT
TZOFFSETFROM:+0000
TZOFFSETTO:+0100
TZNAME:BST
DTSTART:20260329T010000
END:DAYLIGHT
BEGIN:STANDARD
TZOFFSETFROM:+0100
TZOFFSETTO:+0000
TZNAME:GMT
DTSTART:20261025T010000
END:STANDARD
BEGIN:DAYLIGHT
TZOFFSETFROM:+0000
TZOFFSETTO:+0100
TZNAME:BST
DTSTART:20270328T010000
END:DAYLIGHT
BEGIN:STANDARD
TZOFFSETFROM:+0100
TZOFFSETTO:+0000
TZNAME:GMT
DTSTART:20271031T010000
END:STANDARD
END:VTIMEZONE
BEGIN:VEVENT
DTSTART;VALUE=DATE:20260324
DTEND;VALUE=DATE:20260504
DTSTAMP:20260421T152401
CREATED:20260324T143738Z
LAST-MODIFIED:20260324T143738Z
UID:8649-1774310400-1777852799@cornwall-landscape.org
SUMMARY:First online consultation of Cornwall National Landscape Management Plan Review
DESCRIPTION:All are invited to be part of something empowering and rooted for Cornwall National Landscape\, helping shape a MP that brings People\, Place\, Nature\, Climate together. Take a look at our short video to help you embed a secure understanding of Cornwall National Landscape and the role you play in shaping its future. \nThis is the first of two consultation and we invite you all to complete the one that is most suitable for you. One is for all members of the public\, community groups and local organisations. The second is for our partner and stakeholder organisations. Please choose from the appropriate survey link. http://letstalk.cornwall.gov.uk/cornwall-national-landscape
URL:https://cornwall-landscape.org/cnl-event/first-online-consultation-of-cornwall-national-landscape-management-plan-review/
END:VEVENT
BEGIN:VEVENT
DTSTART;TZID=Europe/London:20260425T100000
DTEND;TZID=Europe/London:20260425T150000
DTSTAMP:20260421T152401
CREATED:20260302T091636Z
LAST-MODIFIED:20260302T091636Z
UID:8635-1777111200-1777129200@cornwall-landscape.org
SUMMARY:Traditional Cornish Hedging Taster day with CREST Cornwall
DESCRIPTION:La Hayes Farm in association with CREST Cornwall trainers are running FREE taster days open to all who want to try out a new skill learning how to build a Cornish stone hedge and experience a rural tradition of Bodmin Moor. \nSaturday 25th of April 2026\nSaturday 2nd of May 2026\n10am till 3pm\n  \nLunch and refreshments are provided\nBooking is essential as spaces are limited to 10 places per day\n  \nBook a space by emailing: Lahayesfarm@gmail.com\n  \nThis event is funded thanks to The National Lottery Heritage Fund through Cornwall National Landscape’s Natural Beauty & The Beast project
URL:https://cornwall-landscape.org/cnl-event/traditional-cornish-hedging-taster-day-with-crest-cornwall/
CATEGORIES:Education Event,Natural Beauty
ATTACH;FMTTYPE=application/pdf:https://cnl-image-store.storage.googleapis.com/wp-content/uploads/2026/03/02172751/Poster-Cornwall-Hedging-day.pdf
END:VEVENT
BEGIN:VEVENT
DTSTART;TZID=Europe/London:20260425T100000
DTEND;TZID=Europe/London:20260425T150000
DTSTAMP:20260421T152401
CREATED:20260410T140953Z
LAST-MODIFIED:20260410T140953Z
UID:8948-1777111200-1777129200@cornwall-landscape.org
SUMMARY:Moor Wild Ecological Training Day
DESCRIPTION:Day 2 Surveying Insects and other invertebrates.\n\n10am til 3ish with breaks along the way. Stop for lunch around 12.30\, bring a packed lunch.\n\nFor the first hour or so of day with a look at the Moth Traps we’ll have left out overnight. We’ll look at the species attracted and talk about how best to identify and record them. We’ll think about recording other insect groups.\nNext\, we’ll have a go at catching and identifying river invertebrates (and possibly pond invertebrates if time allows). We’ll look at how they can be used to give an insight into water quality.\nIf time allows we will also do some Tree identification.\n\nSupported by the Natural Beauty and the Beast Project thanks to National Lottery Heritage Fund Players
URL:https://cornwall-landscape.org/cnl-event/moor-wild-ecological-training-day/
ATTACH;FMTTYPE=image/jpeg:https://cnl-image-store.storage.googleapis.com/wp-content/uploads/2026/04/10150924/650361937_1380234874150723_3198143882615935168_n.jpg
END:VEVENT
BEGIN:VEVENT
DTSTART;TZID=Europe/London:20260502T100000
DTEND;TZID=Europe/London:20260502T150000
DTSTAMP:20260421T152401
CREATED:20260302T091817Z
LAST-MODIFIED:20260302T091817Z
UID:8636-1777716000-1777734000@cornwall-landscape.org
SUMMARY:Traditional Cornish Hedging Taster day with CREST Cornwall
DESCRIPTION:La Hayes Farm in association with CREST Cornwall trainers are running FREE taster days open to all who want to try out a new skill learning how to build a Cornish stone hedge and experience a rural tradition of Bodmin Moor. \nSaturday 25th of April 2026\nSaturday 2nd of May 2026\n10am till 3pm\n  \nLunch and refreshments are provided\nBooking is essential as spaces are limited to 10 places per day\n  \nBook a space by emailing: Lahayesfarm@gmail.com\n  \nThis event is funded thanks to The National Lottery Heritage Fund through Cornwall National Landscape’s Natural Beauty & The Beast project
URL:https://cornwall-landscape.org/cnl-event/traditional-cornish-hedging-taster-day-with-crest-cornwall-2/
CATEGORIES:Education Event,Natural Beauty
ATTACH;FMTTYPE=application/pdf:https://cnl-image-store.storage.googleapis.com/wp-content/uploads/2026/03/02172754/Poster-Cornwall-Hedging-day-1.pdf
END:VEVENT
END:VCALENDAR